BEGIN:VCALENDAR
VERSION:2.0
PRODID:-//Westmount Baptist Church - ECPv6.15.10//NONSGML v1.0//EN
CALSCALE:GREGORIAN
METHOD:PUBLISH
X-WR-CALNAME:Westmount Baptist Church
X-ORIGINAL-URL:https://westmountbaptist.org
X-WR-CALDESC:Events for Westmount Baptist Church
REFRESH-INTERVAL;VALUE=DURATION:PT1H
X-Robots-Tag:noindex
X-PUBLISHED-TTL:PT1H
BEGIN:VTIMEZONE
TZID:America/Toronto
BEGIN:DAYLIGHT
TZOFFSETFROM:-0500
TZOFFSETTO:-0400
TZNAME:EDT
DTSTART:20250309T070000
END:DAYLIGHT
BEGIN:STANDARD
TZOFFSETFROM:-0400
TZOFFSETTO:-0500
TZNAME:EST
DTSTART:20251102T060000
END:STANDARD
BEGIN:DAYLIGHT
TZOFFSETFROM:-0500
TZOFFSETTO:-0400
TZNAME:EDT
DTSTART:20260308T070000
END:DAYLIGHT
BEGIN:STANDARD
TZOFFSETFROM:-0400
TZOFFSETTO:-0500
TZNAME:EST
DTSTART:20261101T060000
END:STANDARD
BEGIN:DAYLIGHT
TZOFFSETFROM:-0500
TZOFFSETTO:-0400
TZNAME:EDT
DTSTART:20270314T070000
END:DAYLIGHT
BEGIN:STANDARD
TZOFFSETFROM:-0400
TZOFFSETTO:-0500
TZNAME:EST
DTSTART:20271107T060000
END:STANDARD
END:VTIMEZONE
BEGIN:VEVENT
DTSTART;TZID=America/Toronto:20260329T110000
DTEND;TZID=America/Toronto:20260329T123000
DTSTAMP:20260423T074751
CREATED:20260317T210011Z
LAST-MODIFIED:20260317T210032Z
UID:1291-1774782000-1774787400@westmountbaptist.org
SUMMARY:Family Sunday & Easter Potluck Service
DESCRIPTION:Join us this Sunday for Family Sunday & Easter Potluck — a time to feast\, grow\, and dive deep together! 🌊 \nOpen Up Easter with us as we come together for a joyful potluck meal after the service — bring your favorite dish to share and enjoy good food\, fellowship\, and fun with your church family! 🍔 \nOur pastors will be hosting “Conversations in the Deep End\,” an open and welcoming discussion where you can ask your biggest questions about faith\, life\, and everything in between. Whether you’re exploring new ideas\, seeking guidance\, or just curious\, this is a safe space for honest and meaningful conversation. \n👉 Have a question already? Drop it using the link above — we’d love to hear from you! \nWho’s invited: Everyone — individuals\, families\, friends\, and anyone curious about faith and community. \nCome ready to listen\, share\, and feast for Easter together — a little deeper in conversation\, and a little lighter with good food and fellowship.
URL:https://westmountbaptist.org/event/family-sunday-easter-potluck-service/
LOCATION:Westmount Baptist Church\, 411 Roslyn Avenue\, Montreal\, Quebec\, H3H 2T6\, Canada
ATTACH;FMTTYPE=image/png:https://westmountbaptist.org/wp-content/uploads/2026/03/Screenshot-2026-03-17-at-4.57.28-PM.png
ORGANIZER;CN="Westmount Baptist Church":MAILTO:westmountbaptistchurch@gmail.com
END:VEVENT
END:VCALENDAR