BEGIN:VCALENDAR
VERSION:2.0
PRODID:-//Westmount Baptist Church - ECPv6.15.10//NONSGML v1.0//EN
CALSCALE:GREGORIAN
METHOD:PUBLISH
X-ORIGINAL-URL:https://westmountbaptist.org
X-WR-CALDESC:Events for Westmount Baptist Church
REFRESH-INTERVAL;VALUE=DURATION:PT1H
X-Robots-Tag:noindex
X-PUBLISHED-TTL:PT1H
BEGIN:VTIMEZONE
TZID:America/Toronto
BEGIN:DAYLIGHT
TZOFFSETFROM:-0500
TZOFFSETTO:-0400
TZNAME:EDT
DTSTART:20250309T070000
END:DAYLIGHT
BEGIN:STANDARD
TZOFFSETFROM:-0400
TZOFFSETTO:-0500
TZNAME:EST
DTSTART:20251102T060000
END:STANDARD
BEGIN:DAYLIGHT
TZOFFSETFROM:-0500
TZOFFSETTO:-0400
TZNAME:EDT
DTSTART:20260308T070000
END:DAYLIGHT
BEGIN:STANDARD
TZOFFSETFROM:-0400
TZOFFSETTO:-0500
TZNAME:EST
DTSTART:20261101T060000
END:STANDARD
BEGIN:DAYLIGHT
TZOFFSETFROM:-0500
TZOFFSETTO:-0400
TZNAME:EDT
DTSTART:20270314T070000
END:DAYLIGHT
BEGIN:STANDARD
TZOFFSETFROM:-0400
TZOFFSETTO:-0500
TZNAME:EST
DTSTART:20271107T060000
END:STANDARD
END:VTIMEZONE
BEGIN:VEVENT
DTSTART;TZID=America/Toronto:20260209T080000
DTEND;TZID=America/Toronto:20260209T170000
DTSTAMP:20260423T091158
CREATED:20260211T034856Z
LAST-MODIFIED:20260211T034856Z
UID:1272-1770624000-1770656400@westmountbaptist.org
SUMMARY:Potluck Sunday
DESCRIPTION:🎉🍲 Potluck Sunday is Here! 🍲🎉 \nGet ready for a delicious time of food\, fun\, and fellowship! You’re warmly invited to join us this Sunday for Service & Potluck — Live by The Word first\, and a meal to share. Let’s enjoy an amazing variety of homemade goodness together. \n🥗 Bring your favourite meal\, snack\, or dessert😄 Bring your appetite and great vibes👨‍👩‍👧‍👦 Bring a friend or family member along! \nWhether you’re cooking up a family favourite or picking up something special\, every dish adds to the joy and community spirit. \nWe can’t wait to taste what you bring and spend some quality time together! \nCome hungry… leave happy! 😋
URL:https://westmountbaptist.org/event/potluck-sunday/
LOCATION:Westmount Baptist Church\, 411 Roslyn Avenue\, Montreal\, Quebec\, H3H 2T6\, Canada
ORGANIZER;CN="Westmount Baptist Church":MAILTO:westmountbaptistchurch@gmail.com
END:VEVENT
END:VCALENDAR