BEGIN:VCALENDAR
VERSION:2.0
PRODID:-//Westmount Baptist Church - ECPv6.15.10//NONSGML v1.0//EN
CALSCALE:GREGORIAN
METHOD:PUBLISH
X-ORIGINAL-URL:https://westmountbaptist.org
X-WR-CALDESC:Events for Westmount Baptist Church
REFRESH-INTERVAL;VALUE=DURATION:PT1H
X-Robots-Tag:noindex
X-PUBLISHED-TTL:PT1H
BEGIN:VTIMEZONE
TZID:America/Toronto
BEGIN:DAYLIGHT
TZOFFSETFROM:-0500
TZOFFSETTO:-0400
TZNAME:EDT
DTSTART:20240310T070000
END:DAYLIGHT
BEGIN:STANDARD
TZOFFSETFROM:-0400
TZOFFSETTO:-0500
TZNAME:EST
DTSTART:20241103T060000
END:STANDARD
BEGIN:DAYLIGHT
TZOFFSETFROM:-0500
TZOFFSETTO:-0400
TZNAME:EDT
DTSTART:20250309T070000
END:DAYLIGHT
BEGIN:STANDARD
TZOFFSETFROM:-0400
TZOFFSETTO:-0500
TZNAME:EST
DTSTART:20251102T060000
END:STANDARD
BEGIN:DAYLIGHT
TZOFFSETFROM:-0500
TZOFFSETTO:-0400
TZNAME:EDT
DTSTART:20260308T070000
END:DAYLIGHT
BEGIN:STANDARD
TZOFFSETFROM:-0400
TZOFFSETTO:-0500
TZNAME:EST
DTSTART:20261101T060000
END:STANDARD
BEGIN:DAYLIGHT
TZOFFSETFROM:-0500
TZOFFSETTO:-0400
TZNAME:EDT
DTSTART:20270314T070000
END:DAYLIGHT
BEGIN:STANDARD
TZOFFSETFROM:-0400
TZOFFSETTO:-0500
TZNAME:EST
DTSTART:20271107T060000
END:STANDARD
END:VTIMEZONE
BEGIN:VEVENT
DTSTART;TZID=America/Toronto:20251231T210000
DTEND;TZID=America/Toronto:20260101T010000
DTSTAMP:20260423T104746
CREATED:20251116T194349Z
LAST-MODIFIED:20251117T031634Z
UID:1078-1767214800-1767229200@westmountbaptist.org
SUMMARY:Crossover Service
DESCRIPTION:✨ WATCH NIGHT PRAYER VIGIL — CROSSING OVER INTO 2026! ✨ \nDecember 31st | 9:00 PM — Until We Cross Into the New Year \nFamily\, it’s that powerful time of the year again! \nJoin us this December 31st as we gather for a high-energy\, faith-filled\, joy-packed Watch Night / Crossover Service to welcome 2026 with thanksgiving\, prayer\, and bold declarations! \nWe’re stepping into the new year with expectation\, believing that as God permits us to cross over\, He will launch us into the new season gloriously. 🙌🏽🔥 \nCome ready to:\n✨ Worship with passion\n✨ Sing Hymns to glorify His Name\n✨ Give thanks for His goodness in 2025\n✨ Testify of His Mercy since January\n✨ Pray into the new year\n✨ Declare God’s promises over your 2026\n&\n✨ Celebrate as we count down into The New Year together! \nBring your friends\, your family\, and your praise — let’s enter 2026 with joy\, unity\, and power!Don’t miss this unforgettable night!
URL:https://westmountbaptist.org/event/crossover-service/
LOCATION:Westmount Baptist Church\, 411 Roslyn Avenue\, Montreal\, Quebec\, H3H 2T6\, Canada
ATTACH;FMTTYPE=image/png:https://westmountbaptist.org/wp-content/uploads/2025/11/Screenshot-2025-11-16-at-2.30.45-PM-1.png
ORGANIZER;CN="Westmount Baptist Church":MAILTO:westmountbaptistchurch@gmail.com
END:VEVENT
BEGIN:VEVENT
DTSTART;TZID=America/Toronto:20260104T110000
DTEND;TZID=America/Toronto:20260104T123000
DTSTAMP:20260423T104746
CREATED:20260101T210540Z
LAST-MODIFIED:20260130T153319Z
UID:1145-1767524400-1767529800@westmountbaptist.org
SUMMARY:First Sunday Service 2027
DESCRIPTION:HAPPY NEW YEAR! 🥳 \nAs we gather on the first Sunday of 2027\, join us in celebrating God’s faithfulness and embracing the year ahead in His presence. \nYou’re invited to a special Service of Praise\, where we will speak of what The Lord is doing\, partake in communion\, lift our voices in joyful worship\, and give thanks. \n🤍 Come in a splash of WHITE.🎶 Expect heartfelt praise\, and an atmosphere of thanksgiving and hope. \nCome thankful. Come expectant. Let’s begin 2027 together with praise.
URL:https://westmountbaptist.org/event/first-sunday-service-2026-testify-in-white/
LOCATION:Westmount Baptist Church\, 411 Roslyn Avenue\, Montreal\, Quebec\, H3H 2T6\, Canada
ATTACH;FMTTYPE=image/png:https://westmountbaptist.org/wp-content/uploads/2026/01/Screenshot-2026-01-01-at-3.52.52-PM.png
ORGANIZER;CN="Westmount Baptist Church":MAILTO:westmountbaptistchurch@gmail.com
END:VEVENT
END:VCALENDAR