BEGIN:VCALENDAR
VERSION:2.0
PRODID:-//Westmount Baptist Church - ECPv6.15.10//NONSGML v1.0//EN
CALSCALE:GREGORIAN
METHOD:PUBLISH
X-WR-CALNAME:Westmount Baptist Church
X-ORIGINAL-URL:https://westmountbaptist.org
X-WR-CALDESC:Events for Westmount Baptist Church
REFRESH-INTERVAL;VALUE=DURATION:PT1H
X-Robots-Tag:noindex
X-PUBLISHED-TTL:PT1H
BEGIN:VTIMEZONE
TZID:America/Toronto
BEGIN:DAYLIGHT
TZOFFSETFROM:-0500
TZOFFSETTO:-0400
TZNAME:EDT
DTSTART:20240310T070000
END:DAYLIGHT
BEGIN:STANDARD
TZOFFSETFROM:-0400
TZOFFSETTO:-0500
TZNAME:EST
DTSTART:20241103T060000
END:STANDARD
BEGIN:DAYLIGHT
TZOFFSETFROM:-0500
TZOFFSETTO:-0400
TZNAME:EDT
DTSTART:20250309T070000
END:DAYLIGHT
BEGIN:STANDARD
TZOFFSETFROM:-0400
TZOFFSETTO:-0500
TZNAME:EST
DTSTART:20251102T060000
END:STANDARD
BEGIN:DAYLIGHT
TZOFFSETFROM:-0500
TZOFFSETTO:-0400
TZNAME:EDT
DTSTART:20260308T070000
END:DAYLIGHT
BEGIN:STANDARD
TZOFFSETFROM:-0400
TZOFFSETTO:-0500
TZNAME:EST
DTSTART:20261101T060000
END:STANDARD
END:VTIMEZONE
BEGIN:VEVENT
DTSTART;TZID=America/Toronto:20251214T110000
DTEND;TZID=America/Toronto:20251214T123000
DTSTAMP:20260421T070140
CREATED:20251102T043341Z
LAST-MODIFIED:20251116T222802Z
UID:881-1765710000-1765715400@westmountbaptist.org
SUMMARY:3rd Sunday of Advent
DESCRIPTION:✨ Join Us for Advent Services This Month! ✨ \nStep into the season of hope\, peace\, joy\, and love! This week\, we celebrate the Third Advent — the Advent of Joy 🎉\, rejoicing in the coming of Christ who fills our hearts with lasting joy. \nAs we light the pink candle\, we reflect on the joy of God’s promises and the hope of His presence in our lives. \nCome worship\, celebrate\, and prepare your heart in this season of joyful expectation. \nEveryone is welcome! 🎵✨ \n\nhttps://westmountbaptist.org/wp-content/uploads/2025/11/3rd-Advent-video.mp4
URL:https://westmountbaptist.org/event/3rd-sunday-of-advent/
LOCATION:Westmount Baptist Church\, 411 Roslyn Avenue\, Montreal\, Quebec\, H3H 2T6\, Canada
ATTACH;FMTTYPE=image/png:https://westmountbaptist.org/wp-content/uploads/2025/11/Screenshot-2025-11-16-at-5.19.57-PM.png
ORGANIZER;CN="Westmount Baptist Church":MAILTO:westmountbaptistchurch@gmail.com
END:VEVENT
BEGIN:VEVENT
DTSTART;TZID=America/Toronto:20251207T110000
DTEND;TZID=America/Toronto:20251207T233000
DTSTAMP:20260421T070140
CREATED:20251102T043257Z
LAST-MODIFIED:20251114T000035Z
UID:879-1765105200-1765150200@westmountbaptist.org
SUMMARY:2nd Sunday of Advent & Communion Service
DESCRIPTION:✨ Join Us for Advent Services This Month! ✨ \nStep into the season of hope\, peace\, joy\, and love! \nThis week\, we celebrate the Advent of Peace — a time to remember that true peace is found in Christ\, the Prince of Peace\, who calms our hearts and restores our world. \nAs we light the Bethlehem Candle\, we reflect on God’s promise of peace — peace within\, peace with others\, and peace that only He can bring. \nThis Sunday’s service will also include Holy Communion\, and we warmly invite you to partake in the Lord’s Supper as we remember Christ’s sacrifice and look forward to His coming with hope and peace. \nCome worship\, reflect\, and prepare your heart in this season of quiet expectation.Everyone is welcome — bring a friend and share in this beautiful time of peace and anticipation as we await the coming of our King. 🕊️ \nhttps://westmountbaptist.org/wp-content/uploads/2025/11/2nd-Advent-video-1.mp4
URL:https://westmountbaptist.org/event/2nd-sunday-of-advent/
LOCATION:Westmount Baptist Church\, 411 Roslyn Avenue\, Montreal\, Quebec\, H3H 2T6\, Canada
ATTACH;FMTTYPE=image/png:https://westmountbaptist.org/wp-content/uploads/2025/11/Screenshot-2025-11-13-at-6.56.05-PM.png
ORGANIZER;CN="Westmount Baptist Church":MAILTO:westmountbaptistchurch@gmail.com
END:VEVENT
BEGIN:VEVENT
DTSTART;TZID=America/Toronto:20251130T110000
DTEND;TZID=America/Toronto:20251130T123000
DTSTAMP:20260421T070140
CREATED:20251102T041059Z
LAST-MODIFIED:20251105T171113Z
UID:862-1764500400-1764505800@westmountbaptist.org
SUMMARY:Family Sunday: Conversations in The Deep End - 1st Sunday of Advent
DESCRIPTION:✨ Join Us for Advent Services This Month! ✨ \nStep into the season of hope\, peace\, joy\, and love! \nThis week\, we celebrate the Advent of Hope — the prophecy fulfilled in Christ’s coming. \nWe also welcome you to our last edition of Conversations in The Deep End with our Pastors for 2025. \nDo fill out This Form to have your questions answered. \nCome reflect\, worship\, and prepare your heart for the season of expectation. \nEveryone is welcome — bring a friend and join us for this meaningful time of hope and anticipation! \nhttps://westmountbaptist.org/wp-content/uploads/2025/11/1st-Advent-video.mp4
URL:https://westmountbaptist.org/event/adent1/
LOCATION:Westmount Baptist Church\, 411 Roslyn Avenue\, Montreal\, Quebec\, H3H 2T6\, Canada
ATTACH;FMTTYPE=image/png:https://westmountbaptist.org/wp-content/uploads/2025/11/Screenshot-2025-11-05-at-11.27.49-AM.png
ORGANIZER;CN="Westmount Baptist Church":MAILTO:westmountbaptistchurch@gmail.com
END:VEVENT
END:VCALENDAR